BEGIN:VCALENDAR
VERSION:2.0
PRODID:-//Squarespace Inc/Squarespace 6//v6//EN
BEGIN:VEVENT
UID:5e578655144ced2c2aab6771@squarespace.com
DTSTAMP:20200227T090742Z
DTSTART:20200319T220000Z
DTEND:20200320T010000Z
SUMMARY:Brew Night - Two Birds Brewing
GEO:-32.735722;151.558978
LOCATION:The Pourhouse\, 327 High Street\, Maitland\, NSW\, 2320\, Australi
 a
END:VEVENT
END:VCALENDAR
