BEGIN:VCALENDAR
VERSION:2.0
PRODID:-//Squarespace Inc/Squarespace 6//v6//EN
BEGIN:VEVENT
UID:5e5786e9e54eec6fcae89399@squarespace.com
DTSTAMP:20200227T091000Z
DTSTART:20200409T220000Z
DTEND:20200410T013000Z
SUMMARY:Nomad Brewing - Brew Night
GEO:-32.735722;151.558978
LOCATION:The Pourhouse\, 327 High Street\, Maitland\, NSW\, 2320\, Australi
 a
END:VEVENT
END:VCALENDAR
