BEGIN:VCALENDAR
VERSION:2.0
PRODID:-//Squarespace Inc/Squarespace 6//v6//EN
BEGIN:VEVENT
UID:5e23f5333e92f95439668ade@squarespace.com
DTSTAMP:20200119T062459Z
DTSTART:20200509T000000Z
DTEND:20200509T035900Z
SUMMARY:Groovin Pre Party
GEO:-32.735722;151.558978
LOCATION:The Pourhouse\, 327 High Street\, Maitland\, NSW\, 2320\, Australi
 a
END:VEVENT
END:VCALENDAR
