BEGIN:VCALENDAR
VERSION:2.0
PRODID:-//Squarespace Inc/Squarespace 6//v6//EN
BEGIN:VEVENT
UID:5e2151572ea93e14b2c37af1@squarespace.com
DTSTAMP:20200117T062039Z
DTSTART:20200328T233000Z
DTEND:20200329T035900Z
SUMMARY:Comic Book Party
GEO:-32.735722;151.558978
LOCATION:The Pourhouse\, 327 High Street\, Maitland\, NSW\, 2320\, Australi
 a
END:VEVENT
END:VCALENDAR
