BEGIN:VCALENDAR
VERSION:2.0
PRODID:-//Squarespace Inc/Squarespace 6//v6//EN
BEGIN:VEVENT
UID:5e214d7312540e1f1c79d829@squarespace.com
DTSTAMP:20200117T062133Z
DTSTART:20200301T003000Z
DTEND:20200301T045900Z
SUMMARY:Leap Year Party
GEO:-32.735722;151.558978
LOCATION:The Pourhouse\, 327 High Street\, Maitland\, NSW\, 2320\, Australi
 a
END:VEVENT
END:VCALENDAR
