BEGIN:VCALENDAR
VERSION:2.0
PRODID:-//Squarespace Inc/Squarespace 6//v6//EN
BEGIN:VEVENT
UID:5e215297f52b107943defcd5@squarespace.com
DTSTAMP:20200117T062530Z
DTSTART:20200206T233000Z
DTEND:20200207T023000Z
SUMMARY:Brew Night - Coastal Brewing Co
GEO:-32.735722;151.558978
LOCATION:The Pourhouse\, 327 High Street\, Maitland\, NSW\, 2320\, Australi
 a
END:VEVENT
END:VCALENDAR
